<?xml version="1.0" encoding="UTF-8" standalone="no"?>
<metadata xml:lang="en">
<Esri>
<CreaDate>20160630</CreaDate>
<CreaTime>14270900</CreaTime>
<ArcGISFormat>1.0</ArcGISFormat>
<SyncOnce>FALSE</SyncOnce>
<DataProperties>
<itemProps>
<itemName Sync="TRUE">migration_zone_by_feet</itemName>
<imsContentType Sync="TRUE">002</imsContentType>
<nativeExtBox>
<westBL Sync="TRUE">275304.428764</westBL>
<eastBL Sync="TRUE">1158544.428764</eastBL>
<southBL Sync="TRUE">4045302.148347</southBL>
<northBL Sync="TRUE">5090442.148347</northBL>
<exTypeCode Sync="TRUE">1</exTypeCode>
</nativeExtBox>
</itemProps>
<coordRef>
<type Sync="TRUE">Projected</type>
<geogcsn Sync="TRUE">GCS_North_American_1983</geogcsn>
<csUnits Sync="TRUE">Linear Unit: Meter (1.000000)</csUnits>
<projcsn Sync="TRUE">NAD_1983_UTM_Zone_18N</projcsn>
<peXml Sync="TRUE">&lt;ProjectedCoordinateSystem xsi:type='typens:ProjectedCoordinateSystem' xmlns:xsi='http://www.w3.org/2001/XMLSchema-instance' xmlns:xs='http://www.w3.org/2001/XMLSchema' xmlns:typens='http://www.esri.com/schemas/ArcGIS/10.4'&gt;&lt;WKT&gt;PROJCS[&amp;quot;NAD_1983_UTM_Zone_18N&amp;quot;,GEOGCS[&amp;quot;GCS_North_American_1983&amp;quot;,DATUM[&amp;quot;D_North_American_1983&amp;quot;,SPHEROID[&amp;quot;GRS_1980&amp;quot;,6378137.0,298.257222101]],PRIMEM[&amp;quot;Greenwich&amp;quot;,0.0],UNIT[&amp;quot;Degree&amp;quot;,0.0174532925199433]],PROJECTION[&amp;quot;Transverse_Mercator&amp;quot;],PARAMETER[&amp;quot;False_Easting&amp;quot;,500000.0],PARAMETER[&amp;quot;False_Northing&amp;quot;,0.0],PARAMETER[&amp;quot;Central_Meridian&amp;quot;,-75.0],PARAMETER[&amp;quot;Scale_Factor&amp;quot;,0.9996],PARAMETER[&amp;quot;Latitude_Of_Origin&amp;quot;,0.0],UNIT[&amp;quot;Meter&amp;quot;,1.0],AUTHORITY[&amp;quot;EPSG&amp;quot;,26918]]&lt;/WKT&gt;&lt;XOrigin&gt;-5120900&lt;/XOrigin&gt;&lt;YOrigin&gt;-9998100&lt;/YOrigin&gt;&lt;XYScale&gt;450445547.3910538&lt;/XYScale&gt;&lt;ZOrigin&gt;-100000&lt;/ZOrigin&gt;&lt;ZScale&gt;10000&lt;/ZScale&gt;&lt;MOrigin&gt;-100000&lt;/MOrigin&gt;&lt;MScale&gt;10000&lt;/MScale&gt;&lt;XYTolerance&gt;0.001&lt;/XYTolerance&gt;&lt;ZTolerance&gt;0.001&lt;/ZTolerance&gt;&lt;MTolerance&gt;0.001&lt;/MTolerance&gt;&lt;HighPrecision&gt;true&lt;/HighPrecision&gt;&lt;WKID&gt;26918&lt;/WKID&gt;&lt;LatestWKID&gt;26918&lt;/LatestWKID&gt;&lt;/ProjectedCoordinateSystem&gt;</peXml>
</coordRef>
</DataProperties>
<SyncDate>20170516</SyncDate>
<SyncTime>16252100</SyncTime>
<ModDate>20170516</ModDate>
<ModTime>16252100</ModTime>
<scaleRange>
<minScale>150000000</minScale>
<maxScale>5000</maxScale>
</scaleRange>
<ArcGISProfile>FGDC</ArcGISProfile>
</Esri>
<dataIdInfo>
<envirDesc Sync="FALSE">Esri ArcGIS 10.4.1.5686</envirDesc>
<dataLang>
<languageCode Sync="TRUE" value="eng">
</languageCode>
<countryCode Sync="TRUE" value="USA">
</countryCode>
</dataLang>
<idCitation>
<resTitle Sync="FALSE">Marsh Migration Zones, Northeast U.S.</resTitle>
<presForm>
<PresFormCd Sync="TRUE" value="011">
</PresFormCd>
</presForm>
<date>
<pubDate>2017-03-22T00:00:00</pubDate>
</date>
</idCitation>
<spatRpType>
<SpatRepTypCd Sync="TRUE" value="002">
</SpatRepTypCd>
</spatRpType>
<dataExt>
<geoEle>
<GeoBndBox esriExtentType="search">
<exTypeCode Sync="TRUE">1</exTypeCode>
<westBL Sync="TRUE">-77.898259</westBL>
<eastBL Sync="TRUE">-66.547039</eastBL>
<northBL Sync="TRUE">45.967551</northBL>
<southBL Sync="TRUE">36.327410</southBL>
</GeoBndBox>
</geoEle>
</dataExt>
<idPurp>Northeast Region Marsh Migration is one of a suite of products from the Nature’s Network (naturesnetwork.org) project. Marsh Migration addresses the unique...</idPurp>
<idAbs>&lt;DIV STYLE="text-align:Left;"&gt;&lt;DIV&gt;&lt;DIV&gt;&lt;P&gt;&lt;SPAN&gt;Northeast Region Marsh Migration is one of a suite of products from the Nature’s Network project. Based on sea level rise (SLR) analysis by NOAA, this dataset depicts potential marsh migration zones at various sea level rise scenarios from 0-6’. Identification of suitable uplands adjacent to tidal wetlands is based on topography, habitat type, land use, and development, and can be used for facilitating marsh migration through land protection and/or management. The NOAA &lt;/SPAN&gt;&lt;A href="https://coast.noaa.gov/digitalcoast/tools/lca.html"&gt;&lt;SPAN&gt;Coastal Change Analysis Program &lt;/SPAN&gt;&lt;/A&gt;&lt;SPAN&gt;(CCAP) mapped the initial (current) distribution of potential marshes and and other coastal land cover types. The &lt;/SPAN&gt;&lt;A href="https://coast.noaa.gov/data/digitalcoast/pdf/slr-marsh-migration-methods.pdf"&gt;&lt;SPAN&gt;Detailed Method for Mapping Sea Level Rise Marsh Migration &lt;/SPAN&gt;&lt;/A&gt;&lt;SPAN&gt;provides the full methodology for the data used to create the aggregated Marsh Migration layer in Nature’s Network, and describes the initial condition as follows:&lt;/SPAN&gt;&lt;/P&gt;&lt;P&gt;&lt;SPAN&gt;“Wetland data portrayed as the initial condition within the viewer is derived from NOAA’s Coastal Change Analysis Program (C-CAP). C-CAP produces a nationally standardized database of land cover and land change information for the coastal regions of the U.S. These products provide inventories of coastal intertidal areas, wetlands, and adjacent uplands with the goal of monitoring these habitats by updating the land cover maps every five years. Data used in this analysis reflect conditions as they existed when mapped in the 2005 to 2006 timeframe… For the purposes of this analysis, the full C-CAP classification scheme has been simplified, removing detail in upland features to place emphasis on wetland areas. “ &lt;/SPAN&gt;&lt;/P&gt;&lt;P&gt;&lt;SPAN&gt;For Nature’s Network, Marsh migration areas were mapped using data available on the &lt;/SPAN&gt;&lt;A href="https://coast.noaa.gov/digitalcoast/tools/slr"&gt;&lt;SPAN&gt;sea level rise viewer &lt;/SPAN&gt;&lt;/A&gt;&lt;SPAN&gt;in combination with elevation and tidal range data to examine the extent of undeveloped upland available for migration and predict future marsh habitat in one foot increments up to 6ft. The sea level rise viewer provides access to predicted SLR in 1 foot increments for coastal states. For Nature’s Network, the initial condition and each increment of SLR data were aggregated for the Northeast states, providing a seamless layer depicting the range of SLR scenarios, and the potential marsh migration areas associated with each SLR amount.&lt;/SPAN&gt;&lt;/P&gt;&lt;P&gt;&lt;SPAN&gt;A number of additional datasets that augment or complement Marsh Migration, are available in the &lt;/SPAN&gt;&lt;A href="https://nalcc.databasin.org/galleries/8f4dfe780c444634a45ee4acc930a055"&gt;&lt;SPAN&gt;Nature’s Network gallery on Data Basin&lt;/SPAN&gt;&lt;/A&gt;&lt;SPAN&gt;.&lt;/SPAN&gt;&lt;/P&gt;&lt;/DIV&gt;&lt;/DIV&gt;&lt;/DIV&gt;</idAbs>
<idCredit>Kevin Ruddock, The Nature Conservancy, Providence RI; NOAA Sea Level Rise Viewer</idCredit>
<searchKeys>
<keyword>Connectivity</keyword>
<keyword>marsh migration</keyword>
<keyword>sea level rise</keyword>
<keyword>Nature's Network</keyword>
</searchKeys>
<resConst>
<Consts>
<useLimit/>
</Consts>
</resConst>
</dataIdInfo>
<mdLang>
<languageCode Sync="TRUE" value="eng">
</languageCode>
<countryCode Sync="TRUE" value="USA">
</countryCode>
</mdLang>
<distInfo>
<distFormat>
<formatName Sync="TRUE">File Geodatabase Raster Dataset</formatName>
</distFormat>
</distInfo>
<mdHrLv>
<ScopeCd Sync="TRUE" value="005">
</ScopeCd>
</mdHrLv>
<mdHrLvName Sync="TRUE">dataset</mdHrLvName>
<refSysInfo>
<RefSystem>
<refSysID>
<identCode Sync="TRUE" code="26918">
</identCode>
<idCodeSpace Sync="TRUE">EPSG</idCodeSpace>
<idVersion Sync="TRUE">6.13(3.0.1)</idVersion>
</refSysID>
</RefSystem>
</refSysInfo>
<spdoinfo>
<rastinfo>
<rasttype Sync="TRUE">Pixel</rasttype>
<rowcount Sync="TRUE">104514</rowcount>
<colcount Sync="TRUE">88324</colcount>
<rastxsz Sync="TRUE">10.000000</rastxsz>
<rastysz Sync="TRUE">10.000000</rastysz>
<rastbpp Sync="TRUE">32</rastbpp>
<vrtcount Sync="TRUE">1</vrtcount>
<rastorig Sync="TRUE">Upper Left</rastorig>
<rastcmap Sync="TRUE">FALSE</rastcmap>
<rastcomp Sync="TRUE">LZ77</rastcomp>
<rastband Sync="TRUE">1</rastband>
<rastdtyp Sync="TRUE">pixel codes</rastdtyp>
<rastifor Sync="TRUE">FGDBR</rastifor>
<rastplyr Sync="TRUE">TRUE</rastplyr>
</rastinfo>
</spdoinfo>
<spref>
<horizsys>
<planar>
<planci>
<plance Sync="TRUE">row and column</plance>
<coordrep>
<absres Sync="TRUE">10.000000</absres>
<ordres Sync="TRUE">10.000000</ordres>
</coordrep>
</planci>
</planar>
</horizsys>
</spref>
<eainfo>
<detailed Name="VAT_migration_zone_by_feet">
<enttyp>
<enttypl Sync="TRUE">VAT_migration_zone_by_feet</enttypl>
<enttypt Sync="TRUE">Table</enttypt>
<enttypc Sync="TRUE">7</enttypc>
</enttyp>
<attr>
<attrlabl Sync="TRUE">OBJECTID</attrlabl>
<attalias Sync="TRUE">OBJECTID</attalias>
<attrtype Sync="TRUE">OID</attrtype>
<attwidth Sync="TRUE">4</attwidth>
<atprecis Sync="TRUE">0</atprecis>
<attscale Sync="TRUE">0</attscale>
<attrdef Sync="TRUE">Internal feature number.</attrdef>
<attrdefs Sync="TRUE">Esri</attrdefs>
<attrdomv>
<udom Sync="TRUE">Sequential unique whole numbers that are automatically generated.</udom>
</attrdomv>
</attr>
<attr>
<attrlabl Sync="TRUE">Value</attrlabl>
<attalias Sync="TRUE">Value</attalias>
<attrtype Sync="TRUE">Integer</attrtype>
<attwidth Sync="TRUE">4</attwidth>
<atprecis Sync="TRUE">0</atprecis>
<attscale Sync="TRUE">0</attscale>
<attrdef>1-6 ft predicted sea level rise zone, 0 is initial condition</attrdef>
</attr>
<attr>
<attrlabl Sync="TRUE">Count</attrlabl>
<attalias Sync="TRUE">Count</attalias>
<attrtype Sync="TRUE">Double</attrtype>
<attwidth Sync="TRUE">8</attwidth>
<atprecis Sync="TRUE">0</atprecis>
<attscale Sync="TRUE">0</attscale>
<attrdef>number of cells</attrdef>
</attr>
<attr>
<attrlabl Sync="TRUE">zone</attrlabl>
<attalias Sync="TRUE">zone</attalias>
<attrtype Sync="TRUE">String</attrtype>
<attwidth Sync="TRUE">50</attwidth>
<atprecis Sync="TRUE">0</atprecis>
<attscale Sync="TRUE">0</attscale>
<attrdef> predicted SLR zone, ranging from 1-6 ft SLR, or Initial Condition (CCAP) indicating current sea level potentially suitable for marsh.</attrdef>
</attr>
</detailed>
</eainfo>
<mdDateSt Sync="TRUE">20170516</mdDateSt>
<mdContact>
<rpIndName>Kevin Ruddock</rpIndName>
<rpOrgName>The Nature Conservancy, Rhode Island </rpOrgName>
</mdContact>
<mdConst>
<Consts>
<useLimit>&lt;DIV STYLE="text-align:Left;"&gt;&lt;DIV&gt;&lt;P&gt;&lt;SPAN&gt;As with any project carried out across such a large area, this product is subject to limitations. The results by themselves are not a prescription for on-the-ground action; users are encouraged to verify, with field visits and site-specific knowledge, the value of any areas identified in the project. General constraints and uncertainties include the following:&lt;/SPAN&gt;&lt;/P&gt;&lt;P&gt;&lt;SPAN /&gt;&lt;/P&gt;&lt;P&gt;&lt;SPAN&gt;The marsh migration data are based on predictions about future sea levels, climate, and development, and are therefore subject to high levels of uncertainty;&lt;/SPAN&gt;&lt;/P&gt;&lt;P&gt;&lt;SPAN&gt;Although Nature’s Network is intended to be based on the best available science, alternative models of SLR and climate change may not agree with the model inputs selected for this analysis;&lt;/SPAN&gt;&lt;/P&gt;&lt;P&gt;&lt;SPAN&gt;The Marsh Migration data are intended to provide one source of information to be be used in conjunction with local information, expert input, and alternative scientific assessments to inform marsh conservation and coastal adaptation to sea level rise; the data should not be interpreted as providing a definitive recommendation&lt;/SPAN&gt;&lt;/P&gt;&lt;P&gt;&lt;SPAN /&gt;&lt;/P&gt;&lt;P&gt;&lt;SPAN&gt;From &lt;/SPAN&gt;&lt;A href="https://coast.noaa.gov/data/digitalcoast/pdf/slr-marsh-migration-methods.pdf"&gt;&lt;SPAN&gt;Detailed Method for Mapping Sea Level Rise Marsh Migration&lt;/SPAN&gt;&lt;/A&gt;&lt;SPAN&gt;:&lt;/SPAN&gt;&lt;/P&gt;&lt;P&gt;&lt;SPAN&gt;	&lt;/SPAN&gt;&lt;/P&gt;&lt;P&gt;&lt;SPAN&gt;These data are for planning, educational, and awareness purposes only and should not be used for site-specific analysis, navigation, or permitting.&lt;/SPAN&gt;&lt;/P&gt;&lt;P&gt;&lt;SPAN&gt;The mapping does not incorporate future changes in coastal geomorphology and assumes present conditions will persist, which will not be the case.&lt;/SPAN&gt;&lt;/P&gt;&lt;P&gt;&lt;SPAN&gt;The digital elevation model (DEM) used to map SLR does not incorporate a detailed pipe network analysis, or engineering grade hydrologic analysis (for example, culverts and ditches may not be incorporated resulting in incorrectly mapped areas).&lt;/SPAN&gt;&lt;/P&gt;&lt;P&gt;&lt;SPAN /&gt;&lt;/P&gt;&lt;/DIV&gt;&lt;/DIV&gt;</useLimit>
</Consts>
</mdConst>
</metadata>
