{ "currentVersion": 11.4, "serviceDescription": "

Northeast Region Marsh Migration is one of a suite of products from the Nature\u2019s Network project. Based on sea level rise (SLR) analysis by NOAA, this dataset depicts potential marsh migration zones at various sea level rise scenarios from 0-6\u2019. Identification of suitable uplands adjacent to tidal wetlands is based on topography, habitat type, land use, and development, and can be used for facilitating marsh migration through land protection and/or management. The NOAA <\/SPAN>Coastal Change Analysis Program <\/SPAN><\/A>(CCAP) mapped the initial (current) distribution of potential marshes and and other coastal land cover types. The <\/SPAN>Detailed Method for Mapping Sea Level Rise Marsh Migration <\/SPAN><\/A>provides the full methodology for the data used to create the aggregated Marsh Migration layer in Nature\u2019s Network, and describes the initial condition as follows:<\/SPAN><\/P>
\u201cWetland data portrayed as the initial condition within the viewer is derived from NOAA\u2019s Coastal Change Analysis Program (C-CAP). C-CAP produces a nationally standardized database of land cover and land change information for the coastal regions of the U.S. These products provide inventories of coastal intertidal areas, wetlands, and adjacent uplands with the goal of monitoring these habitats by updating the land cover maps every five years. Data used in this analysis reflect conditions as they existed when mapped in the 2005 to 2006 timeframe\u2026 For the purposes of this analysis, the full C-CAP classification scheme has been simplified, removing detail in upland features to place emphasis on wetland areas. \u201c <\/SPAN><\/P>
For Nature\u2019s Network, Marsh migration areas were mapped using data available on the <\/SPAN>sea level rise viewer <\/SPAN><\/A>in combination with elevation and tidal range data to examine the extent of undeveloped upland available for migration and predict future marsh habitat in one foot increments up to 6ft. The sea level rise viewer provides access to predicted SLR in 1 foot increments for coastal states. For Nature\u2019s Network, the initial condition and each increment of SLR data were aggregated for the Northeast states, providing a seamless layer depicting the range of SLR scenarios, and the potential marsh migration areas associated with each SLR amount.<\/SPAN><\/P>
A number of additional datasets that augment or complement Marsh Migration, are available in the <\/SPAN>Nature\u2019s Network gallery on Data Basin<\/SPAN><\/A>.<\/SPAN><\/P><\/DIV><\/DIV><\/DIV>", "name": "GreenInfrastructure/Marsh_Migration_Zones", "description": "

Northeast Region Marsh Migration is one of a suite of products from the Nature\u2019s Network project. Based on sea level rise (SLR) analysis by NOAA, this dataset depicts potential marsh migration zones at various sea level rise scenarios from 0-6\u2019. Identification of suitable uplands adjacent to tidal wetlands is based on topography, habitat type, land use, and development, and can be used for facilitating marsh migration through land protection and/or management. The NOAA <\/SPAN>Coastal Change Analysis Program <\/SPAN><\/A>(CCAP) mapped the initial (current) distribution of potential marshes and and other coastal land cover types. The <\/SPAN>Detailed Method for Mapping Sea Level Rise Marsh Migration <\/SPAN><\/A>provides the full methodology for the data used to create the aggregated Marsh Migration layer in Nature\u2019s Network, and describes the initial condition as follows:<\/SPAN><\/P>
\u201cWetland data portrayed as the initial condition within the viewer is derived from NOAA\u2019s Coastal Change Analysis Program (C-CAP). C-CAP produces a nationally standardized database of land cover and land change information for the coastal regions of the U.S. These products provide inventories of coastal intertidal areas, wetlands, and adjacent uplands with the goal of monitoring these habitats by updating the land cover maps every five years. Data used in this analysis reflect conditions as they existed when mapped in the 2005 to 2006 timeframe\u2026 For the purposes of this analysis, the full C-CAP classification scheme has been simplified, removing detail in upland features to place emphasis on wetland areas. \u201c <\/SPAN><\/P>
For Nature\u2019s Network, Marsh migration areas were mapped using data available on the <\/SPAN>sea level rise viewer <\/SPAN><\/A>in combination with elevation and tidal range data to examine the extent of undeveloped upland available for migration and predict future marsh habitat in one foot increments up to 6ft. The sea level rise viewer provides access to predicted SLR in 1 foot increments for coastal states. For Nature\u2019s Network, the initial condition and each increment of SLR data were aggregated for the Northeast states, providing a seamless layer depicting the range of SLR scenarios, and the potential marsh migration areas associated with each SLR amount.<\/SPAN><\/P>
A number of additional datasets that augment or complement Marsh Migration, are available in the <\/SPAN>Nature\u2019s Network gallery on Data Basin<\/SPAN><\/A>.<\/SPAN><\/P><\/DIV><\/DIV><\/DIV>", "extent": { "xmin": 275304.4287642749, "ymin": 4045302.1483473163, "xmax": 1158544.4287642748, "ymax": 5090442.148347316, "spatialReference": { "wkid": 26918, "latestWkid": 26918 } }, "initialExtent": { "xmin": 275304.4287642749, "ymin": 4045302.1483473163, "xmax": 1158544.4287642748, "ymax": 5090442.148347316, "spatialReference": { "wkid": 26918, "latestWkid": 26918 } }, "fullExtent": { "xmin": 275304.4287642749, "ymin": 4045302.1483473163, "xmax": 1158544.4287642748, "ymax": 5090442.148347316, "spatialReference": { "wkid": 26918, "latestWkid": 26918 } }, "sortableFields": "", "bandCount": 1, "pixelType": "S32", "minValues": [ 0 ], "maxValues": [ 6 ], "meanValues": [ 1.6712339701830066 ], "stdvValues": [ 2.07198029930498 ], "hasMultidimensions": false, "pixelSizeX": 9.999999999999998, "pixelSizeY": 10, "meanPixelSize": 10, "datasetFormat": "FGDBR", "uncompressedSize": 36924378144, "blockWidth": 128, "blockHeight": 128, "compressionType": "LZ77", "bandNames": [ "Band_1" ], "allowCopy": true, "allowAnalysis": true, "itemAccess": false, "inspectionCapabilities": "", "minPixelSize": 0, "maxPixelSize": 0, "copyrightText": "Kevin Ruddock, The Nature Conservancy, Providence RI; NOAA Sea Level Rise Viewer", "serviceDataType": "esriImageServiceDataTypeGeneric", "serviceSourceType": "esriImageServiceSourceTypeDataset", "objectIdField": "", "fields": [], "capabilities": "Image,Metadata,Mensuration", "defaultMosaicMethod": "Center", "allowedMosaicMethods": "", "sortField": "", "sortValue": null, "sortAscending": true, "mosaicOperator": "First", "defaultCompressionQuality": 75, "defaultResamplingMethod": "Bilinear", "maxImageHeight": 4100, "maxImageWidth": 15000, "allowRasterFunction": true, "rasterFunctionInfos": [ { "name": "None", "description": "", "help": "" } ], "rasterTypeInfos": [ { "name": "Raster Dataset", "description": "Supports all ArcGIS Raster Datasets", "help": "" } ], "mensurationCapabilities": "Basic", "hasHistograms": true, "hasColormap": false, "hasRasterAttributeTable": true, "minScale": 0, "maxScale": 0, "exportTilesAllowed": false, "supportsStatistics": false, "supportsAdvancedQueries": false, "editFieldsInfo": null, "ownershipBasedAccessControlForRasters": null, "allowComputeTiePoints": false, "useStandardizedQueries": true, "advancedQueryCapabilities": { "useStandardizedQueries": true, "supportsStatistics": false, "supportsOrderBy": false, "supportsDistinct": false, "supportsPagination": false }, "spatialReference": { "wkid": 26918, "latestWkid": 26918 } }